BEGIN:VCALENDAR
VERSION:2.0
PRODID:http://www.st-maria-magdalena.de
BEGIN:VEVENT
UID:97017bef-2da0-11f1-a3e9-0242ac11002b-1777129200000-de
DTSTAMP:20260401T075837Z
DTSTART:20260425T150000Z
SUMMARY;LANGUAGE=de:Vorabendgottesdienst in Isenburg - Hl. Markus, Evangelist
DESCRIPTION;LANGUAGE=de:Vorabendgottesdienst in Isenburg\nzum 4. Sonntag der Osterzeit\n2. Jgd. f. † Ortrud Griedelbach\nvon den Freundinnen des Kaffeeclubs\nKollekte für die Aufgaben der Pfarrgemeinde
END:VEVENT
END:VCALENDAR
