BEGIN:VCALENDAR
VERSION:2.0
PRODID:http://www.st-maria-magdalena.de
BEGIN:VEVENT
UID:53167e5a-2398-11f1-a21a-0242ac11002b-1777190400000-de
DTSTAMP:20260319T133416Z
DTSTART:20260426T080000Z
SUMMARY;LANGUAGE=de:START IN DEN WONNEMONAT MAI: GEMEINSAMEN FRÜHSTÜCK im  Bürgerhaus Kleinmaischeid
DESCRIPTION;LANGUAGE=de:START IN DEN WONNEMONAT MAI\nSonntag\, 26.04.2026 10:00 Uhr\, Bürgerhaus Kleinmaischeid\nWIR LADEN EIN ZUM GEMEINSAMEN FRÜHSTÜCK.\nMITGLIEDER\, NICHTMITGLIEDER\, PARTNER\, FAMILIE...ALLE SIND HERZLICH EINGELADEN!\nAnmeldung bis 22.04.2026\nbei Michaele Hauck (0171/4134226)\nFrauengemeinschaft Kleinmaischeid Elisabeth 2.0
IMAGE;VALUE=URI;DISPLAY=BADGE;FMTTYPE=image/jpeg:http://www.st-maria-magdalena.de/export/sites/pfarreien/katholische-kirchengemeinde-st.-maria-magdalena-grossmaischeid-isenburg/.galleries/bilder/image0.jpeg
END:VEVENT
END:VCALENDAR
